{"text_format":"1","workbook":"xlsx","n_sheets":3,"sheets":["Rankings","Data","Work"],"not_rendered":{"charts":0,"images":0,"macros":1,"external_links":0,"defined_names":1,"comments":0,"pivot_tables":0},"unopened":[],"bounds":{"document_bytes":16777216,"sheet_cells":100000,"rows_first":2000,"rows_last":500,"rows_between":2000,"halvings":0,"cell_chars":16384,"cell_head_chars":4096},"cells_cut":0,"cells_raw":0,"read":"whole","date_system":"1900"}

{"sheet":"Rankings","index":0,"n_rows":29,"n_cols":14,"rows_kept":29,"cut":false,"hidden":false,"merged":[[0,2,0,4],[0,5,0,7],[0,8,0,10],[1,3,6,4],[7,3,7,4],[1,6,6,7],[7,6,7,7],[1,9,6,10],[7,9,7,10],[0,11,0,13],[1,12,4,13],[5,12,5,13],[6,12,6,13]]}
[null,null,"Shanghai ranking ",null,null,"Linear ranking with one's own weights",null,null,"Warsaw ranking with one's own weights",null,null,"Warsaw ranking with base object weights"]
[null,"Alumni",10,null,null,0,null,null,1.7933577453656859,null,null,{"$f":"Work!B7","v":15.376649499453144}]
[null,"Award",20,null,null,0,null,null,2.5728569926411118,null,null,{"$f":"Work!C7","v":16.155972865897166}]
[null,"HiCi",20,null,null,0,null,null,1.4678211692215095,null,null,{"$f":"Work!D7","v":15.877421609588591}]
[null,"N&S",20,null,null,0,null,null,2.0125459142437143,null,null,{"$f":"Work!E7","v":18.879303143975498}]
[null,"PUB",20,null,null,0,null,null,1.588852037560827,null,null,{"$f":"Work!F7","v":20.720035200513109},"Base object, ordinal no as in Data sheet"]
[null,"PCP",10,null,null,100,null,null,90.564566140967145,null,null,{"$f":"Work!G7","v":12.990617680572486},11]
[null,"Sum of weights",{"$f":"SUM(C2:C7)","v":100},"Sum of weights",null,{"$f":"SUM(F2:F7)","v":100},"Sum of weights",null,100,"Sum of weights",null,100]
[null,null,null,null,"position in ranking",null,"value","position in ranking",null,"value","position in ranking",null,"value","position in ranking"]
[null,null,"Harvard University",null,1,"California Institute of Technology",{"$f":"$F$2*Data!H11+$F$3*Data!I11+$F$4*Data!J11+$F$5*Data!K11+$F$6*Data!L11+$F$7*Data!M11","v":10000},1,"California Institute of Technology",{"$f":"MAX(Rankings!$I$2*(101-Data!H11),Rankings!$I$3*(101-Data!I11),Rankings!$I$4*(101-Data!J11),Rankings!$I$5*(101-Data!K11),Rankings!$I$6*(101-Data!L11),Rankings!$I$7*(101-Data!M11))","v":90.564566140967145},1,"Harvard University",{"$f":"MAX(Rankings!$L$2*(101-Data!H3),Rankings!$L$3*(101-Data!I3),Rankings!$L$4*(101-Data!J3),Rankings!$L$5*(101-Data!K3),Rankings!$L$6*(101-Data!L3),Rankings!$L$7*(101-Data!M3))","v":279.29828013230843},1]
[null,null,"Stanford University",null,2,"Harvard University",{"$f":"$F$2*Data!H3+$F$3*Data!I3+$F$4*Data!J3+$F$5*Data!K3+$F$6*Data!L3+$F$7*Data!M3","v":7950},2,"Harvard University",{"$f":"MAX(Rankings!$I$2*(101-Data!H3),Rankings!$I$3*(101-Data!I3),Rankings!$I$4*(101-Data!J3),Rankings!$I$5*(101-Data!K3),Rankings!$I$6*(101-Data!L3),Rankings!$I$7*(101-Data!M3))","v":1947.1381720307936},2,"Massachusetts Institute of Technology  (MIT)",{"$f":"MAX(Rankings!$L$2*(101-Data!H7),Rankings!$L$3*(101-Data!I7),Rankings!$L$4*(101-Data!J7),Rankings!$L$5*(101-Data!K7),Rankings!$L$6*(101-Data!L7),Rankings!$L$7*(101-Data!M7))","v":710.69720737759963},2]
[null,null,"University of Cambridge",null,3,"Princeton University",{"$f":"$F$2*Data!H8+$F$3*Data!I8+$F$4*Data!J8+$F$5*Data!K8+$F$6*Data!L8+$F$7*Data!M8","v":7350},3,"Princeton University",{"$f":"MAX(Rankings!$I$2*(101-Data!H8),Rankings!$I$3*(101-Data!I8),Rankings!$I$4*(101-Data!J8),Rankings!$I$5*(101-Data!K8),Rankings!$I$6*(101-Data!L8),Rankings!$I$7*(101-Data!M8))","v":2490.5255688765965},3,"University of Cambridge",{"$f":"MAX(Rankings!$L$2*(101-Data!H6),Rankings!$L$3*(101-Data!I6),Rankings!$L$4*(101-Data!J6),Rankings!$L$5*(101-Data!K6),Rankings!$L$6*(101-Data!L6),Rankings!$L$7*(101-Data!M6))","v":777.00132001924158},3]
[null,null,"Massachusetts Institute of Technology  (MIT)",null,4,"Massachusetts Institute of Technology  (MIT)",{"$f":"$F$2*Data!H6+$F$3*Data!I6+$F$4*Data!J6+$F$5*Data!K6+$F$6*Data!L6+$F$7*Data!M6","v":7080},4,"Massachusetts Institute of Technology  (MIT)",{"$f":"MAX(Rankings!$I$2*(101-Data!H6),Rankings!$I$3*(101-Data!I6),Rankings!$I$4*(101-Data!J6),Rankings!$I$5*(101-Data!K6),Rankings!$I$6*(101-Data!L6),Rankings!$I$7*(101-Data!M6))","v":2735.0498974572079},4,"Stanford University",{"$f":"MAX(Rankings!$L$2*(101-Data!H5),Rankings!$L$3*(101-Data!I5),Rankings!$L$4*(101-Data!J5),Rankings!$L$5*(101-Data!K5),Rankings!$L$6*(101-Data!L5),Rankings!$L$7*(101-Data!M5))","v":825.02554739172933},4]
[null,null,"University of California, Berkeley",null,5,"University of Cambridge",{"$f":"$F$2*Data!H5+$F$3*Data!I5+$F$4*Data!J5+$F$5*Data!K5+$F$6*Data!L5+$F$7*Data!M5","v":5910},5,"University of Cambridge",{"$f":"MAX(Rankings!$I$2*(101-Data!H5),Rankings!$I$3*(101-Data!I5),Rankings!$I$4*(101-Data!J5),Rankings!$I$5*(101-Data!K5),Rankings!$I$6*(101-Data!L5),Rankings!$I$7*(101-Data!M5))","v":3794.6553213065231},5,"University of Chicago",{"$f":"MAX(Rankings!$L$2*(101-Data!H13),Rankings!$L$3*(101-Data!I13),Rankings!$L$4*(101-Data!J13),Rankings!$L$5*(101-Data!K13),Rankings!$L$6*(101-Data!L13),Rankings!$L$7*(101-Data!M13))","v":828.8014080205246},5]
[null,null,"Princeton University",null,6,"University of California, Berkeley",{"$f":"$F$2*Data!H7+$F$3*Data!I7+$F$4*Data!J7+$F$5*Data!K7+$F$6*Data!L7+$F$7*Data!M7","v":5870},6,"University of California, Berkeley",{"$f":"MAX(Rankings!$I$2*(101-Data!H7),Rankings!$I$3*(101-Data!I7),Rankings!$I$4*(101-Data!J7),Rankings!$I$5*(101-Data!K7),Rankings!$I$6*(101-Data!L7),Rankings!$I$7*(101-Data!M7))","v":3830.8811477629101},6,"Yale University",{"$f":"MAX(Rankings!$L$2*(101-Data!H4),Rankings!$L$3*(101-Data!I4),Rankings!$L$4*(101-Data!J4),Rankings!$L$5*(101-Data!K4),Rankings!$L$6*(101-Data!L4),Rankings!$L$7*(101-Data!M4))","v":868.78069671910259},6]
[null,null,"University of Oxford",null,7,"Stanford University",{"$f":"$F$2*Data!H4+$F$3*Data!I4+$F$4*Data!J4+$F$5*Data!K4+$F$6*Data!L4+$F$7*Data!M4","v":5680},7,"Stanford University",{"$f":"MAX(Rankings!$I$2*(101-Data!H4),Rankings!$I$3*(101-Data!I4),Rankings!$I$4*(101-Data!J4),Rankings!$I$5*(101-Data!K4),Rankings!$I$6*(101-Data!L4),Rankings!$I$7*(101-Data!M4))","v":4002.9538234307479},7,"University of California, Berkeley",{"$f":"MAX(Rankings!$L$2*(101-Data!H10),Rankings!$L$3*(101-Data!I10),Rankings!$L$4*(101-Data!J10),Rankings!$L$5*(101-Data!K10),Rankings!$L$6*(101-Data!L10),Rankings!$L$7*(101-Data!M10))","v":891.10310839564363},7]
[null,null,"Columbia University",null,8,"Swiss Federal Institute of Technology Zurich",{"$f":"$F$2*Data!H21+$F$3*Data!I21+$F$4*Data!J21+$F$5*Data!K21+$F$6*Data!L21+$F$7*Data!M21","v":4740},8,"Swiss Federal Institute of Technology Zurich",{"$f":"MAX(Rankings!$I$2*(101-Data!H21),Rankings!$I$3*(101-Data!I21),Rankings!$I$4*(101-Data!J21),Rankings!$I$5*(101-Data!K21),Rankings!$I$6*(101-Data!L21),Rankings!$I$7*(101-Data!M21))","v":4854.2607451558388},8,"Columbia University",{"$f":"MAX(Rankings!$L$2*(101-Data!H9),Rankings!$L$3*(101-Data!I9),Rankings!$L$4*(101-Data!J9),Rankings!$L$5*(101-Data!K9),Rankings!$L$6*(101-Data!L9),Rankings!$L$7*(101-Data!M9))","v":915.64620248281165},8]
[null,null,"California Institute of Technology",null,9,"University of Oxford",{"$f":"$F$2*Data!H9+$F$3*Data!I9+$F$4*Data!J9+$F$5*Data!K9+$F$6*Data!L9+$F$7*Data!M9","v":4720},9,"University of Oxford",{"$f":"MAX(Rankings!$I$2*(101-Data!H9),Rankings!$I$3*(101-Data!I9),Rankings!$I$4*(101-Data!J9),Rankings!$I$5*(101-Data!K9),Rankings!$I$6*(101-Data!L9),Rankings!$I$7*(101-Data!M9))","v":4872.3736583840318},9,"University of California, Los Angeles",{"$f":"MAX(Rankings!$L$2*(101-Data!H16),Rankings!$L$3*(101-Data!I16),Rankings!$L$4*(101-Data!J16),Rankings!$L$5*(101-Data!K16),Rankings!$L$6*(101-Data!L16),Rankings!$L$7*(101-Data!M16))","v":1036.4737426042548},9]
[null,null,"University of Chicago",null,10,"University of Chicago",{"$f":"$F$2*Data!H12+$F$3*Data!I12+$F$4*Data!J12+$F$5*Data!K12+$F$6*Data!L12+$F$7*Data!M12","v":4310},10,"University of Chicago",{"$f":"MAX(Rankings!$I$2*(101-Data!H12),Rankings!$I$3*(101-Data!I12),Rankings!$I$4*(101-Data!J12),Rankings!$I$5*(101-Data!K12),Rankings!$I$6*(101-Data!L12),Rankings!$I$7*(101-Data!M12))","v":5243.6883795619979},10,"University of Washington",{"$f":"MAX(Rankings!$L$2*(101-Data!H20),Rankings!$L$3*(101-Data!I20),Rankings!$L$4*(101-Data!J20),Rankings!$L$5*(101-Data!K20),Rankings!$L$6*(101-Data!L20),Rankings!$L$7*(101-Data!M20))","v":1098.775442979374},10]
[null,null,"Yale University",null,11,"Cornell University",{"$f":"$F$2*Data!H16+$F$3*Data!I16+$F$4*Data!J16+$F$5*Data!K16+$F$6*Data!L16+$F$7*Data!M16","v":4260},11,"Cornell University",{"$f":"MAX(Rankings!$I$2*(101-Data!H16),Rankings!$I$3*(101-Data!I16),Rankings!$I$4*(101-Data!J16),Rankings!$I$5*(101-Data!K16),Rankings!$I$6*(101-Data!L16),Rankings!$I$7*(101-Data!M16))","v":5288.9706626324814},11,"University of California, San Diego",{"$f":"MAX(Rankings!$L$2*(101-Data!H21),Rankings!$L$3*(101-Data!I21),Rankings!$L$4*(101-Data!J21),Rankings!$L$5*(101-Data!K21),Rankings!$L$6*(101-Data!L21),Rankings!$L$7*(101-Data!M21))","v":1104.0434340607358},11]
[null,null,"University of California, Los Angeles",null,12,"Washington University in St. Louis",{"$f":"$F$2*Data!H22+$F$3*Data!I22+$F$4*Data!J22+$F$5*Data!K22+$F$6*Data!L22+$F$7*Data!M22","v":4000},12,"Washington University in St. Louis",{"$f":"MAX(Rankings!$I$2*(101-Data!H22),Rankings!$I$3*(101-Data!I22),Rankings!$I$4*(101-Data!J22),Rankings!$I$5*(101-Data!K22),Rankings!$I$6*(101-Data!L22),Rankings!$I$7*(101-Data!M22))","v":5524.4385345989958},12,"University College London",{"$f":"MAX(Rankings!$L$2*(101-Data!H14),Rankings!$L$3*(101-Data!I14),Rankings!$L$4*(101-Data!J14),Rankings!$L$5*(101-Data!K14),Rankings!$L$6*(101-Data!L14),Rankings!$L$7*(101-Data!M14))","v":1104.0434340607358},12]
[null,null,"University of Washington",null,13,"University of Pennsylvania",{"$f":"$F$2*Data!H19+$F$3*Data!I19+$F$4*Data!J19+$F$5*Data!K19+$F$6*Data!L19+$F$7*Data!M19","v":3950},13,"University of Pennsylvania",{"$f":"MAX(Rankings!$I$2*(101-Data!H19),Rankings!$I$3*(101-Data!I19),Rankings!$I$4*(101-Data!J19),Rankings!$I$5*(101-Data!K19),Rankings!$I$6*(101-Data!L19),Rankings!$I$7*(101-Data!M19))","v":5569.7208176694794},13,"Princeton University",{"$f":"MAX(Rankings!$L$2*(101-Data!H12),Rankings!$L$3*(101-Data!I12),Rankings!$L$4*(101-Data!J12),Rankings!$L$5*(101-Data!K12),Rankings!$L$6*(101-Data!L12),Rankings!$L$7*(101-Data!M12))","v":1130.8702583241322},13]
[null,null,"Cornell University",null,14,"University of California, San Diego",{"$f":"$F$2*Data!H17+$F$3*Data!I17+$F$4*Data!J17+$F$5*Data!K17+$F$6*Data!L17+$F$7*Data!M17","v":3829.9999999999995},14,"University of California, San Diego",{"$f":"MAX(Rankings!$I$2*(101-Data!H17),Rankings!$I$3*(101-Data!I17),Rankings!$I$4*(101-Data!J17),Rankings!$I$5*(101-Data!K17),Rankings!$I$6*(101-Data!L17),Rankings!$I$7*(101-Data!M17))","v":5678.3982970386405},14,"University of Pennsylvania",{"$f":"MAX(Rankings!$L$2*(101-Data!H18),Rankings!$L$3*(101-Data!I18),Rankings!$L$4*(101-Data!J18),Rankings!$L$5*(101-Data!K18),Rankings!$L$6*(101-Data!L18),Rankings!$L$7*(101-Data!M18))","v":1159.1892130400956},14]
[null,null,"University of California, San Diego",null,15,"Yale University",{"$f":"$F$2*Data!H13+$F$3*Data!I13+$F$4*Data!J13+$F$5*Data!K13+$F$6*Data!L13+$F$7*Data!M13","v":3720.0000000000005},15,"Yale University",{"$f":"MAX(Rankings!$I$2*(101-Data!H13),Rankings!$I$3*(101-Data!I13),Rankings!$I$4*(101-Data!J13),Rankings!$I$5*(101-Data!K13),Rankings!$I$6*(101-Data!L13),Rankings!$I$7*(101-Data!M13))","v":5778.0193197937033},15,"Cornell University",{"$f":"MAX(Rankings!$L$2*(101-Data!H19),Rankings!$L$3*(101-Data!I19),Rankings!$L$4*(101-Data!J19),Rankings!$L$5*(101-Data!K19),Rankings!$L$6*(101-Data!L19),Rankings!$L$7*(101-Data!M19))","v":1176.1805858696735},15]
[null,null,"University College London",null,16,"Columbia University",{"$f":"$F$2*Data!H10+$F$3*Data!I10+$F$4*Data!J10+$F$5*Data!K10+$F$6*Data!L10+$F$7*Data!M10","v":3429.9999999999995},16,"Columbia University",{"$f":"MAX(Rankings!$I$2*(101-Data!H10),Rankings!$I$3*(101-Data!I10),Rankings!$I$4*(101-Data!J10),Rankings!$I$5*(101-Data!K10),Rankings!$I$6*(101-Data!L10),Rankings!$I$7*(101-Data!M10))","v":6040.6565616025091},16,"California Institute of Technology",{"$f":"MAX(Rankings!$L$2*(101-Data!H11),Rankings!$L$3*(101-Data!I11),Rankings!$L$4*(101-Data!J11),Rankings!$L$5*(101-Data!K11),Rankings!$L$6*(101-Data!L11),Rankings!$L$7*(101-Data!M11))","v":1181.0420064292473},16]
[null,null,"University of Pennsylvania",null,17,"University of California, Los Angeles",{"$f":"$F$2*Data!H14+$F$3*Data!I14+$F$4*Data!J14+$F$5*Data!K14+$F$6*Data!L14+$F$7*Data!M14","v":3360},17,"University of California, Los Angeles",{"$f":"MAX(Rankings!$I$2*(101-Data!H14),Rankings!$I$3*(101-Data!I14),Rankings!$I$4*(101-Data!J14),Rankings!$I$5*(101-Data!K14),Rankings!$I$6*(101-Data!L14),Rankings!$I$7*(101-Data!M14))","v":6104.0517579011857},17,"University of Oxford",{"$f":"MAX(Rankings!$L$2*(101-Data!H8),Rankings!$L$3*(101-Data!I8),Rankings!$L$4*(101-Data!J8),Rankings!$L$5*(101-Data!K8),Rankings!$L$6*(101-Data!L8),Rankings!$L$7*(101-Data!M8))","v":1195.5460310696064},17]
[null,null,"Johns Hopkins University",null,18,"University College London",{"$f":"$F$2*Data!H18+$F$3*Data!I18+$F$4*Data!J18+$F$5*Data!K18+$F$6*Data!L18+$F$7*Data!M18","v":3350},18,"University College London",{"$f":"MAX(Rankings!$I$2*(101-Data!H18),Rankings!$I$3*(101-Data!I18),Rankings!$I$4*(101-Data!J18),Rankings!$I$5*(101-Data!K18),Rankings!$I$6*(101-Data!L18),Rankings!$I$7*(101-Data!M18))","v":6113.1082145152823},18,"Swiss Federal Institute of Technology Zurich",{"$f":"MAX(Rankings!$L$2*(101-Data!H15),Rankings!$L$3*(101-Data!I15),Rankings!$L$4*(101-Data!J15),Rankings!$L$5*(101-Data!K15),Rankings!$L$6*(101-Data!L15),Rankings!$L$7*(101-Data!M15))","v":1231.6696249061968},18]
[null,null,"Swiss Federal Institute of Technology Zurich",null,19,"University of Washington",{"$f":"$F$2*Data!H15+$F$3*Data!I15+$F$4*Data!J15+$F$5*Data!K15+$F$6*Data!L15+$F$7*Data!M15","v":3270.0000000000005},19,"University of Washington",{"$f":"MAX(Rankings!$I$2*(101-Data!H15),Rankings!$I$3*(101-Data!I15),Rankings!$I$4*(101-Data!J15),Rankings!$I$5*(101-Data!K15),Rankings!$I$6*(101-Data!L15),Rankings!$I$7*(101-Data!M15))","v":6185.5598674280554},19,"Johns Hopkins University",{"$f":"MAX(Rankings!$L$2*(101-Data!H22),Rankings!$L$3*(101-Data!I22),Rankings!$L$4*(101-Data!J22),Rankings!$L$5*(101-Data!K22),Rankings!$L$6*(101-Data!L22),Rankings!$L$7*(101-Data!M22))","v":1234.3163269545435},19]
[null,null,"Washington University in St. Louis",null,20,"Johns Hopkins University",{"$f":"$F$2*Data!H20+$F$3*Data!I20+$F$4*Data!J20+$F$5*Data!K20+$F$6*Data!L20+$F$7*Data!M20","v":3000},20,"Johns Hopkins University",{"$f":"MAX(Rankings!$I$2*(101-Data!H20),Rankings!$I$3*(101-Data!I20),Rankings!$I$4*(101-Data!J20),Rankings!$I$5*(101-Data!K20),Rankings!$I$6*(101-Data!L20),Rankings!$I$7*(101-Data!M20))","v":6430.0841960086673},20,"Washington University in St. Louis",{"$f":"MAX(Rankings!$L$2*(101-Data!H17),Rankings!$L$3*(101-Data!I17),Rankings!$L$4*(101-Data!J17),Rankings!$L$5*(101-Data!K17),Rankings!$L$6*(101-Data!L17),Rankings!$L$7*(101-Data!M17))","v":1260.8852589551577},20]

{"sheet":"Data","index":1,"n_rows":22,"n_cols":15,"rows_kept":22,"cut":false,"hidden":false,"merged":[[6,14,11,17]]}
[]
[null,null,null,null,null,"The ordinal number as in Shanghai ranking\n",null,"Alumni","Award","HiCi","N&S","PUB","PCP"]
[null,null,null,null,null,1,"Harvard University",100,100,100,100,100,79.5]
[null,null,null,null,null,2,"Stanford University",44.5,88.5,87.3,74.400000000000006,73.7,56.8]
[null,null,null,null,null,3,"University of Cambridge",81.400000000000006,95.4,54.6,57.3,69.8,59.1]
[null,null,null,null,null,4,"Massachusetts Institute of Technology  (MIT)",68.7,82.3,56.7,72.400000000000006,63.5,70.8]
[null,null,null,null,null,5,"University of California, Berkeley",64.400000000000006,78.400000000000006,63.6,68.099999999999994,66.7,58.7,null,"Uniwesities marked in yiellow are Pareto optimal"]
[null,null,null,null,null,6,"Princeton University",54.4,97.9,47.6,46.6,43.3,73.5]
[null,null,null,null,null,7,"University of Oxford",50.8,54.2,62.7,52.5,75.8,47.2]
[null,null,null,null,null,8,"Columbia University",62.8,65.099999999999994,50,53.8,70.3,34.299999999999997]
[null,null,null,null,null,9,"California Institute of Technology",50.5,65.8,39.299999999999997,56,44,100]
[null,null,null,null,null,10,"University of Chicago",59.2,85.1,36.200000000000003,41.1,50.3,43.1]
[null,null,null,null,null,11,"Yale University",47.1,49.7,48.8,57.1,61,37.200000000000003]
[null,null,null,null,null,12,"University of California, Los Angeles",29.2,46.4,63.6,44.9,70.900000000000006,33.6]
[null,null,null,null,null,13,"University of Washington",20.9,37.4,56.7,51.2,74.3,32.700000000000003]
[null,null,null,null,null,14,"Cornell University",43.1,49.1,43.6,46.1,61.1,42.6]
[null,null,null,null,null,15,"University of California, San Diego",19,35.1,58.8,56.4,70.900000000000006,38.299999999999997]
[null,null,null,null,null,16,"University College London",27.8,35.799999999999997,47.6,39.6,74.3,33.5]
[null,null,null,null,null,17,"University of Pennsylvania",31.3,33.4,50,38.700000000000003,61.1,39.5]
[null,null,null,null,null,18,"Johns Hopkins University",37.299999999999997,33.200000000000003,40.799999999999997,42.8,63.7,30]
[null,null,null,null,null,19,"Swiss Federal Institute of Technology Zurich",29.2,35.1,36.200000000000003,49.5,77,47.4]
[null,null,null,null,null,20,"Washington University in St. Louis",22.7,24.6,60.7,43.3,68,40]

{"sheet":"Work","index":2,"n_rows":9,"n_cols":8,"rows_kept":9,"cut":false,"hidden":false,"merged":[]}
[]
[null,1,2,3,4,5,6]
[null,{"$f":"2+Rankings!M7","v":13}]
[null,{"$f":"CONCATENATE(\"Data!h\",$B$3)","v":"Data!h13"},{"$f":"CONCATENATE(\"Data!i\",$B$3)","v":"Data!i13"},{"$f":"CONCATENATE(\"Data!j\",$B$3)","v":"Data!j13"},{"$f":"CONCATENATE(\"Data!k\",$B$3)","v":"Data!k13"},{"$f":"CONCATENATE(\"Data!l\",$B$3)","v":"Data!l13"},{"$f":"CONCATENATE(\"Data!m\",$B$3)","v":"Data!m13"}]
[]
[null,{"$f":"1/(101-INDIRECT(B4))","v":1.8552875695732839E-2},{"$f":"1/(101-INDIRECT(C4))","v":1.9493177387914232E-2},1.9157088122605363E-2,2.2779043280182234E-2,2.5000000000000001E-2,1.5673981191222573E-2,{"$f":"SUM(B6:G6)","v":0.12065616567765725}]
[null,{"$f":"100*B6/$H$6","v":15.376649499453144},{"$f":"100*C6/$H$6","v":16.155972865897166},15.877421609588591,18.879303143975498,20.720035200513109,12.990617680572486,{"$f":"SUM(B7:G7)","v":100}]
[]
[null,{"$f":"1/(101-Data!H3)","v":1},{"$f":"1/(101-Data!I3)","v":1},{"$f":"1/(101-Data!J3)","v":1},{"$f":"1/(101-Data!K3)","v":1},{"$f":"1/(101-Data!L3)","v":1},{"$f":"1/(101-Data!M3)","v":4.6511627906976744E-2}]